BEGIN:VCALENDAR
VERSION:2.0
PRODID:spatie/icalendar-generator
DESCRIPTION:Events from Asotin County Democrats
X-WR-CALDESC:Events from Asotin County Democrats
REFRESH-INTERVAL;VALUE=DURATION:PT1440M
X-PUBLISHED-TTL:PT1440M
BEGIN:VTIMEZONE
TZID:Etc/GMT+0
BEGIN:STANDARD
DTSTART:20250731T180000Z
TZOFFSETFROM:+0000
TZOFFSETTO:+0000
END:STANDARD
END:VTIMEZONE
BEGIN:VTIMEZONE
TZID:UTC
BEGIN:STANDARD
DTSTART:20250727T181054Z
TZOFFSETFROM:+0000
TZOFFSETTO:+0000
END:STANDARD
END:VTIMEZONE
BEGIN:VEVENT
UID:87-10
DTSTAMP:20260423T181054Z
SUMMARY:Clarkston School District Meeting
LOCATION:
ORGANIZER;CN=asotincountydemocrats2023@gmail.com:MAILTO:asotincountydemocra
 ts2023@gmail.com
RRULE:FREQ=MONTHLY;BYDAY=4MO;UNTIL=20261228T000000Z
DTSTART;TZID=Etc/GMT+0:20260427T180000
DTEND;TZID=Etc/GMT+0:20260427T190000
X-ALT-DESC;FMTTYPE=TEXT/HTML:School Board meeting of the Clarkston\, WA Sch
 ool District. Citizens wishing to address the Board should make a written 
 request to the Superintendent at least seven (7) days prior to the meeting
 . Clarkston School District1294 Chestnut Street\, Clarkston\, WA 99403
CATEGORIES:General
URL;VALUE=URI:https://asotincodems.org/mc-events/clarkston-school-district-
 meeting-2/?mc_id=87
METHOD:PUBLISH
END:VEVENT
END:VCALENDAR