BEGIN:VCALENDAR
VERSION:2.0
PRODID:spatie/icalendar-generator
DESCRIPTION:Events from Asotin County Democrats
X-WR-CALDESC:Events from Asotin County Democrats
REFRESH-INTERVAL;VALUE=DURATION:PT1440M
X-PUBLISHED-TTL:PT1440M
BEGIN:VTIMEZONE
TZID:Etc/GMT+0
BEGIN:STANDARD
DTSTART:20250731T090000Z
TZOFFSETFROM:+0000
TZOFFSETTO:+0000
END:STANDARD
END:VTIMEZONE
BEGIN:VTIMEZONE
TZID:UTC
BEGIN:STANDARD
DTSTART:20250727T183727Z
TZOFFSETFROM:+0000
TZOFFSETTO:+0000
END:STANDARD
END:VTIMEZONE
BEGIN:VEVENT
UID:147-21
DTSTAMP:20260423T183727Z
SUMMARY:Asotin County Commission Meeting
LOCATION:
ORGANIZER;CN=asotincountydemocrats2023@gmail.com:MAILTO:asotincountydemocra
 ts2023@gmail.com
RRULE:FREQ=WEEKLY;UNTIL=20261228T000000Z
DTSTART;TZID=Etc/GMT+0:20260427T090000
DTEND;TZID=Etc/GMT+0:20260427T100000
X-ALT-DESC;FMTTYPE=TEXT/HTML:Phone in: 1-669-900-6833 / Link to Zoom Webin
 ar ID: 863 2097 4898 Courthouse Annex Building 95 2nd Street Commissioner
 ’s Chambers Asotin\, WA 99402
CATEGORIES:General
URL;VALUE=URI:https://asotincodems.org/mc-events/asotin-county-commission-m
 eeting/?mc_id=147
METHOD:PUBLISH
END:VEVENT
END:VCALENDAR